BEGIN:VCALENDAR
VERSION:2.0
PRODID:-//Squarespace Inc/Squarespace 6//v6//EN
BEGIN:VEVENT
UID:618acf9131456376c20f1fbf@squarespace.com
DTSTAMP:20220110T133603Z
DTSTART:20220219T200000Z
DTEND:20220219T210000Z
SUMMARY:Daytona International Speedway
END:VEVENT
END:VCALENDAR
