BEGIN:VCALENDAR
VERSION:2.0
PRODID:-//Squarespace Inc/Squarespace 6//v6//EN
BEGIN:VEVENT
UID:618ad2545413814b9b9768e5@squarespace.com
DTSTAMP:20220110T133603Z
DTSTART:20220423T190000Z
DTEND:20220423T200000Z
SUMMARY:Talladega Superspeedway
END:VEVENT
END:VCALENDAR
