BEGIN:VCALENDAR
VERSION:2.0
PRODID:-//Squarespace Inc/Squarespace 6//v6//EN
BEGIN:VEVENT
UID:618ad6ac3fe43925374b657d@squarespace.com
DTSTAMP:20220110T133603Z
DTSTART:20220618T193000Z
DTEND:20220618T203000Z
SUMMARY:Berlin Raceway
END:VEVENT
END:VCALENDAR
