BEGIN:VCALENDAR
VERSION:2.0
PRODID:-//Squarespace Inc/Squarespace 6//v6//EN
BEGIN:VEVENT
UID:615df00cf32f726b3058e695@squarespace.com
DTSTAMP:20211109T185209Z
DTSTART:20220709T040000Z
DTEND:20220709T050000Z
SUMMARY:Mid-Ohio Sports Car Course
END:VEVENT
END:VCALENDAR
