BEGIN:VCALENDAR
VERSION:2.0
PRODID:-//Squarespace Inc/Squarespace 6//v6//EN
BEGIN:VEVENT
UID:615df03ce76a986c1af2a775@squarespace.com
DTSTAMP:20211109T185351Z
DTSTART:20220723T040000Z
DTEND:20220723T050000Z
SUMMARY:Pocono Raceway
END:VEVENT
END:VCALENDAR
