BEGIN:VCALENDAR
VERSION:2.0
PRODID:-//Squarespace Inc/Squarespace 6//v6//EN
BEGIN:VEVENT
UID:615deceae7ba8e06aa0bf0e9@squarespace.com
DTSTAMP:20211109T185743Z
DTSTART:20220326T040000Z
DTEND:20220326T050000Z
SUMMARY:Circuit Of The Americas
END:VEVENT
END:VCALENDAR
