BEGIN:VCALENDAR
VERSION:2.0
PRODID:-//Squarespace Inc/Squarespace 6//v6//EN
BEGIN:VEVENT
UID:615ded3875dfc517fdea548a@squarespace.com
DTSTAMP:20211109T184311Z
DTSTART:20220407T040000Z
DTEND:20220407T050000Z
SUMMARY:Martinsville Speedway
END:VEVENT
END:VCALENDAR
