BEGIN:VCALENDAR
VERSION:2.0
PRODID:-//Squarespace Inc/Squarespace 6//v6//EN
BEGIN:VEVENT
UID:6037d1742c3272139b66ac91@squarespace.com
DTSTAMP:20220110T133603Z
DTSTART:20210725T010000Z
DTEND:20210725T020500Z
SUMMARY:Iowa
END:VEVENT
END:VCALENDAR
