BEGIN:VCALENDAR
VERSION:2.0
PRODID:-//Squarespace Inc/Squarespace 6//v6//EN
BEGIN:VEVENT
UID:6037d2a4cb347d25c49f7342@squarespace.com
DTSTAMP:20220110T133603Z
DTSTART:20210829T180000Z
DTEND:20210830T020000Z
SUMMARY:Milwaukee Mile
END:VEVENT
END:VCALENDAR
