BEGIN:VCALENDAR
VERSION:2.0
PRODID:-//Squarespace Inc/Squarespace 6//v6//EN
BEGIN:VEVENT
UID:603671d33d898e06f2ee1c4c@squarespace.com
DTSTAMP:20210225T151100Z
DTSTART:20210313T003000Z
DTEND:20210313T045500Z
SUMMARY:Phoenix
END:VEVENT
END:VCALENDAR
