BEGIN:VCALENDAR
VERSION:2.0
PRODID:-//Squarespace Inc/Squarespace 6//v6//EN
BEGIN:VEVENT
UID:5fc666863c02f22b9de852d1@squarespace.com
DTSTAMP:20220110T133603Z
DTSTART:20210328T000000Z
DTEND:20210328T035500Z
SUMMARY:Bristol Motor Speedway - Dirt
END:VEVENT
END:VCALENDAR
