BEGIN:VCALENDAR
VERSION:2.0
PRODID:-//Squarespace Inc/Squarespace 6//v6//EN
BEGIN:VEVENT
UID:5fc684623c02f22b9def14e7@squarespace.com
DTSTAMP:20220110T133603Z
DTSTART:20210522T170000Z
DTEND:20210523T035500Z
SUMMARY:Circuit of the Americas
END:VEVENT
END:VCALENDAR
