BEGIN:VCALENDAR
VERSION:2.0
PRODID:-//Squarespace Inc/Squarespace 6//v6//EN
BEGIN:VEVENT
UID:5fc68409fa04221c71025480@squarespace.com
DTSTAMP:20220110T133603Z
DTSTART:20210507T233000Z
DTEND:20210508T035500Z
SUMMARY:Darlington Raceway
END:VEVENT
END:VCALENDAR
