BEGIN:VCALENDAR
VERSION:2.0
PRODID:-//Squarespace Inc/Squarespace 6//v6//EN
BEGIN:VEVENT
UID:5fc66263a97599144ed38843@squarespace.com
DTSTAMP:20220110T133603Z
DTSTART:20210213T003000Z
DTEND:20210213T045500Z
SUMMARY:Daytona International Speedway
END:VEVENT
END:VCALENDAR
