BEGIN:VCALENDAR
VERSION:2.0
PRODID:-//Squarespace Inc/Squarespace 6//v6//EN
BEGIN:VEVENT
UID:5fc68cb24e98326c02f64356@squarespace.com
DTSTAMP:20220110T133603Z
DTSTART:20210820T040000Z
DTEND:20210821T035500Z
SUMMARY:WWT Raceway at Gateway
END:VEVENT
END:VCALENDAR
