BEGIN:VCALENDAR
VERSION:2.0
PRODID:-//Squarespace Inc/Squarespace 6//v6//EN
BEGIN:VEVENT
UID:5fc793e0bfb90028be55ef59@squarespace.com
DTSTAMP:20220110T133603Z
DTSTART:20211105T040000Z
DTEND:20211106T035500Z
SUMMARY:Phoenix Raceway
END:VEVENT
END:VCALENDAR
