BEGIN:VCALENDAR
VERSION:2.0
PRODID:-//Squarespace Inc/Squarespace 6//v6//EN
BEGIN:VEVENT
UID:5fc688073c6ccf69f34264cb@squarespace.com
DTSTAMP:20220110T133603Z
DTSTART:20210626T160000Z
DTEND:20210627T035500Z
SUMMARY:Pocono Raceway
END:VEVENT
END:VCALENDAR
