BEGIN:VCALENDAR
VERSION:2.0
PRODID:-//Squarespace Inc/Squarespace 6//v6//EN
BEGIN:VEVENT
UID:5fc68740fa04221c71030f7b@squarespace.com
DTSTAMP:20220110T133603Z
DTSTART:20210612T170000Z
DTEND:20210613T035500Z
SUMMARY:Texas Motor Speedway
END:VEVENT
END:VCALENDAR
